BEGIN:VCALENDAR
VERSION:2.0
PRODID:-//ChamberMaster//Event Calendar 2.0//EN
METHOD:PUBLISH
X-PUBLISHED-TTL:P1H
REFRESH-INTERVAL:P1H
CALSCALE:GREGORIAN
BEGIN:VTIMEZONE
TZID:America/Chicago
BEGIN:DAYLIGHT
RRULE:FREQ=YEARLY;BYMONTH=3;BYDAY=2SU
DTSTART:20070101T000000
TZOFFSETFROM:-0600
TZOFFSETTO:-0500
TZNAME:Central Daylight Time
END:DAYLIGHT
BEGIN:STANDARD
RRULE:FREQ=YEARLY;BYMONTH=11;BYDAY=1SU
DTSTART:20070101T000000
TZOFFSETFROM:-0500
TZOFFSETTO:-0600
TZNAME:Central Standard Time
END:STANDARD
END:VTIMEZONE
BEGIN:VEVENT
DTSTART;TZID=America/Chicago:20260421T100000
DTEND;TZID=America/Chicago:20260421T235500
X-MICROSOFT-CDO-ALLDAYEVENT:FALSE
SUMMARY:Forgotten Gateway: Coming to America Through Galveston Island
DESCRIPTION:On Exhibit through 5/24/2026 at the Comfort Public Library Learning Center.Stop by to see this incredible exhibit showcasing how the Port of Galveston was a major gateway for American immigration from 1845 to 1924\, and most notably those who settled in Texas. Open to all and is completely free of charge. The exhibit will be on display for self-guided viewing during open library hours. A traveling exhibition by the Bullock Texas State History Museum presented in partnership with Humanities Texas.
X-ALT-DESC;FMTTYPE=text/html:<!DOCTYPE html><html><head><title></title></head><body aria-disabled="false"><p>On Exhibit through 5/24/2026 at the Comfort Public Library Learning Center.</p><p>Stop by to see this incredible exhibit showcasing how the Port of Galveston was a major gateway for American immigration from 1845 to 1924\, and most notably those who settled in Texas. Open to all and is completely free of charge. The exhibit will be on display for self-guided viewing during open library hours. A traveling exhibition by the Bullock Texas State History Museum presented in partnership with Humanities Texas.</p></body></html>
LOCATION:701 High Street P.O. Box 536 Comfort TX 78013
UID:e.4255.1447822
SEQUENCE:3
DTSTAMP:20260423T110911Z
URL:https://comfortareachamberofcommerce.growthzoneapp.com/events/Details/forgotten-gateway-coming-to-america-through-galveston-island-1714762?sourceTypeId=Hub
END:VEVENT
END:VCALENDAR
