BEGIN:VCALENDAR
VERSION:2.0
PRODID:-//ChamberMaster//Event Calendar 2.0//EN
METHOD:PUBLISH
X-PUBLISHED-TTL:P1H
REFRESH-INTERVAL:P1H
CALSCALE:GREGORIAN
BEGIN:VTIMEZONE
TZID:America/Chicago
BEGIN:DAYLIGHT
RRULE:FREQ=YEARLY;BYMONTH=3;BYDAY=2SU
DTSTART:20070101T000000
TZOFFSETFROM:-0600
TZOFFSETTO:-0500
TZNAME:Central Daylight Time
END:DAYLIGHT
BEGIN:STANDARD
RRULE:FREQ=YEARLY;BYMONTH=11;BYDAY=1SU
DTSTART:20070101T000000
TZOFFSETFROM:-0500
TZOFFSETTO:-0600
TZNAME:Central Standard Time
END:STANDARD
END:VTIMEZONE
BEGIN:VEVENT
DTSTART;VALUE=DATE:20260425
DTEND;VALUE=DATE:20260426
TRANSP:TRANSPARENT
X-MICROSOFT-CDO-ALLDAYEVENT:TRUE
SUMMARY:7th Annual Golf Tournament by Comfort Education Foundation
DESCRIPTION:The Comfort Education Foundation is hosting its 7th Annual Golf Tournament on April 25th\, 2026 at the Lady Bird Golf Course in Fredericksburg\, Texas. We are excited to announce that we've added a bunco tournament to the schedule of events this year! All proceeds from the tournament will go directly toward supporting our teachers through grants and staff recognition. It's a fun way to give back\, connect with other local businesses\, and show appreciation for the educators who invest so much in our community. We have several ways to get involved\, including sponsorships\, team participation\, donating silent auction items\, or donating bottles of wine for the wine wall raffle. Event sponsorship levels are also available! Please email comforteducationfoundation@gmail.com or call/text 210-259-9601 for more information.
X-ALT-DESC;FMTTYPE=text/html:<!DOCTYPE html><html><head><title></title></head><body aria-disabled="false"><p>The Comfort Education Foundation is hosting its 7th Annual Golf Tournament on April 25th\, 2026 at the Lady Bird Golf Course in Fredericksburg\, Texas. We are excited to announce that we&rsquo\;ve added a bunco tournament to the schedule of events this year! All proceeds from the tournament will go directly toward supporting our teachers through grants and staff recognition. It&rsquo\;s a fun way to give back\, connect with other local businesses\, and show appreciation for the educators who invest so much in our community. We have several ways to get involved\, including sponsorships\, team participation\, donating silent auction items\, or donating bottles of wine for the wine wall raffle. Event sponsorship levels are also available! Please email comforteducationfoundation@gmail.com or call/text 210-259-9601 for more information.</p></body></html>
LOCATION:341 Golfers Loop Fredericksburg TX 78624
UID:e.4255.1396001
SEQUENCE:3
DTSTAMP:20260423T110706Z
URL:https://comfortareachamberofcommerce.growthzoneapp.com/events/Details/7th-annual-golf-tournament-by-comfort-education-foundation-1649594?sourceTypeId=Hub
END:VEVENT
END:VCALENDAR
